Workbook

Sheet 总投资
A1: 建设投资估算表
A2: 单位：万元
A3: 序号 | B3: 工程或费用名称 | C3: 建筑工程费 | D3: 安装工程费 | E3: 设备购置费 | F3: 其他费用 | G3: 合计 | H3: 单位 | I3: 数量 | J3: 综合单价（万元）
A4: 一 | B4: 工程费用 | C4: ==C5+C31 -> 97.872 | D4: ==D5+D31 -> 332.307 | E4: ==E5+E31 -> 3220.9424 | G4: ==C4+D4+E4+F4 -> 3651.1214 | H4: ==G4/G54 -> 0.89367963
A5: 2 | B5: 光伏发电工程 | C5: ==C6+C22 -> 38.15 | D5: ==D6+D22 -> 315 | E5: ==E6+E22 -> 3077.4074 | G5: ==C5+D5+E5+F5 -> 3430.5574 | H5: ==G5/G54 -> 0.8396925
A6: 1 | B6: 光伏组件 | C6: ==SUM(C7:C21) -> 38.15 | D6: ==SUM(D7:D21) -> 90 | E6: ==SUM(E7:E21) -> 780.7874 | G6: ==SUM(C6:F6) -> 908.9374 | H6: KW | I6: 3000 | J6: ==G6/I6 -> 0.30297913
B7: 光伏组件A级 | E7: ==I7*J7 -> 474.498 | G7: ==SUM(C7:F7) -> 474.498 | H7: 块 | I7: 5454 | J7: 0.087
B8: 逆变器 | E8: ==I8*J8 -> 75.6 | G8: ==SUM(C8:F8) -> 75.6 | H8: 台 | I8: 27 | J8: 2.8
B9: 交流汇流箱 | E9: ==I9*J9 -> 6.816 | G9: ==SUM(C9:F9) -> 6.816 | H9: 台 | I9: 6 | J9: 1.136
B10: 光伏支架及配件 | E10: ==I10*J10 -> 78.4377 | G10: ==SUM(C10:F10) -> 78.4377 | H10: km | I10: 45.87 | J10: 1.71
B11: 光伏直流电缆 | E11: ==I11*J11 -> 24.57 | G11: ==SUM(C11:F11) -> 24.57 | H11: km | I11: 63 | J11: 0.39
B12: MC4连接器 | E12: ==I12*J12 -> 0.7056 | G12: ==SUM(C12:F12) -> 0.7056 | H12: 千套 | I12: 1.12 | J12: 0.63
B13: 交流电缆 | E13: ==I13*J13 -> 76.6941 | G13: ==SUM(C13:F13) -> 76.6941 | H13: km | I13: 4.13 | J13: 18.57
B14: 干式变压器（箱变) | E14: ==I14*J14 -> 12.15 | G14: ==SUM(C14:F14) -> 12.15 | H14: 台 | I14: 1 | J14: 12.15
B15: 光伏接入柜 | E15: ==I15*J15 -> 2.49 | G15: ==SUM(C15:F15) -> 2.49 | H15: 台 | I15: 1 | J15: 2.49
B16: 并网柜 | E16: ==I16*J16 -> 2.7 | G16: ==SUM(C16:F16) -> 2.7 | H16: 台 | I16: 1 | J16: 2.7
B17: 站用变电柜 | E17: ==I17*J17 -> 1.93 | G17: ==SUM(C17:F17) -> 1.93 | H17: 台 | I17: 1 | J17: 1.93
B18: 10kV动态无功补偿装置 | E18: ==I18*J18 -> 18.04 | G18: ==SUM(C18:F18) -> 18.04 | H18: 台 | I18: 1 | J18: 18.04
B19: 高压电缆 | E19: ==I19*J19 -> 6.156 | G19: ==SUM(C19:F19) -> 6.156 | H19: m | I19: 108 | J19: 0.057
B20: 土建基础 | C20: ==I20*J20 -> 38.15 | G20: ==SUM(C20:F20) -> 38.15 | H20: 项 | I20: 1 | J20: 38.15
B21: 组件、电气安装、辅材等 | D21: ==I21*J21 -> 90 | G21: ==SUM(C21:F21) -> 90 | H21: KW | I21: 3000 | J21: 0.03
A22: 2 | B22: 电池储能 集装箱 | D22: ==SUM(D23:D30) -> 225 | E22: ==SUM(E23:E30) -> 2296.62 | G22: ==SUM(C22:F22) -> 2521.62 | H22: KWH | I22: 18000 | J22: ==G22/I22 -> 0.14009
B23: 电池系统 2000KWH | E23: ==I23*J23 -> 1572.12 | G23: ==SUM(C23:F23) -> 1572.12 | H23: 个 | I23: 9 | J23: 174.68
B24: 储能变流器 | E24: ==I24*J24 -> 225 | G24: ==SUM(C24:F24) -> 225 | H24: 个 | I24: 9 | J24: 25
B25: 集装箱柜体 | E25: ==I25*J25 -> 103.5 | G25: ==SUM(C25:F25) -> 103.5 | H25: 个 | I25: ==I24 -> 9 | J25: 11.5
B26: 温控系统 | E26: ==I26*J26 -> 108 | G26: ==SUM(C26:F26) -> 108 | H26: 个 | I26: ==I25 -> 9 | J26: 12
B27: 消防系统 | E27: ==I27*J27 -> 121.5 | G27: ==SUM(C27:F27) -> 121.5 | H27: 个 | I27: ==I26 -> 9 | J27: 13.5
B28: 储能EMS | E28: ==I28*J28 -> 90 | G28: ==SUM(C28:F28) -> 90 | H28: 个 | I28: ==I27 -> 9 | J28: 10
B29: 附件 | E29: ==I29*J29 -> 76.5 | G29: ==SUM(C29:F29) -> 76.5 | H29: 个 | I29: ==I28 -> 9 | J29: 8.5
B30: 储能箱基础及连接电缆 | D30: ==I30*J30 -> 225 | G30: ==SUM(C30:F30) -> 225 | H30: 个 | I30: ==I29 -> 9 | J30: 25
B31: 园区配套工程 | C31: ==SUM(C32:C35) -> 59.722 | D31: ==SUM(D32:D35) -> 17.307 | E31: ==SUM(E32:E35) -> 143.535 | F31: ==SUM(F32:F35) -> 0 | G31: ==SUM(C31:F31) -> 220.564 | H31: ㎡ | I31: 5551.3 | J31: 0.227
B32: 绿化等相关配套工程 | C32: ==I32*J32 -> 48.184 | G32: ==SUM(C32:F32) -> 48.184 | H32: ㎡ | I32: 152 | J32: 0.317
B33: 10kv储能变电站 | C33: ==I33*J33*0.1 -> 11.538 | D33: ==I33*J33*0.15 -> 17.307 | E33: ==I33*J33*0.75 -> 86.535 | G33: ==SUM(C33:F33) -> 115.38 | H33: ㎡ | I33: 90 | J33: 1.282
A34: 2.3 | B34: 中心配电室变压器2000KVA | E34: 25 | G34: ==SUM(C34:F34) -> 25 | H34: 台 | I34: 1 | J34: 25
A35: 2.4 | B35: 光伏充电桩 | E35: ==I35*J35 -> 32 | G35: ==SUM(C35:F35) -> 32 | H35: 个 | I35: 4 | J35: 8
A36: 二 | B36: 工程建设其他费用 | F36: ==SUM(F37:F46) -> 201.42383 | G36: ==C36+D36+E36+F36 -> 201.42383 | H36: ==G36/G54 -> 0.049302215
A37: 2 | B37: 建设管理费 | F37: ==G4*0.008 -> 29.208971 | G37: ==C37+D37+E37+F37 -> 29.208971
A38: 3 | B38: 建设工程监理费 | F38: ==G4*0.006 -> 21.906728 | G38: ==C38+D38+E38+F38 -> 21.906728
A39: 4 | B39: 建设项目前期工作咨询费 | F39: ==G4*0.005 -> 18.255607 | G39: ==C39+D39+E39+F39 -> 18.255607
A40: 5 | B40: 屋顶荷载检测费 | F40: 26.17 | G40: ==C40+D40+E40+F40 -> 26.17
...

Sheet 固定资产折旧
A1: 固定资产折旧表
N2: 单位：万元
A3: 序号 | B3: 项目 | C3: 合计 | D3: 残值率 | E3: 折旧年限 | F3: 运营期
F4: 0.5 | G4: 2 | H4: 3 | I4: 4 | J4: 5 | K4: 6 | L4: 7 | M4: 8 | N4: 9 | O4: 10 | P4: 11 | Q4: 12
A5: 1 | B5: 附属物及设备折旧 | D5: 0.05 | E5: 20
A6: 1.1 | B6: 原值 | F6: ==总投资!G50*0.91 -> 3681.107 | G6: ==F8 -> 3593.6807 | H6: ==G8 -> 3418.8281 | I6: ==H8 -> 3243.9755 | J6: ==I8 -> 3069.1229 | K6: ==J8 -> 2894.2704 | L6: ==K8 -> 2719.4178 | M6: ==L8 -> 2544.5652 | N6: ==M8 -> 2369.7126 | ... Q6: ==P8 -> 1845.1549
A7: 1.2 | B7: 当期折旧额 | C7: ==SUM(F7:Q7) -> 2010.8047 | F7: ==F6*0.95*0.5/20 -> 87.42629 | G7: ==F6*0.95/20 -> 174.85258 | H7: ==G7 -> 174.85258 | I7: ==H7 -> 174.85258 | J7: ==I7 -> 174.85258 | K7: ==J7 -> 174.85258 | L7: ==K7 -> 174.85258 | M7: ==L7 -> 174.85258 | N7: ==M7 -> 174.85258 | O7: ==N7 -> 174.85258 | ... Q7: ==P7 -> 174.85258
A8: 1.3 | B8: 净值 | F8: ==F6-F7 -> 3593.6807 | G8: ==G6-G7 -> 3418.8281 | H8: ==H6-H7 -> 3243.9755 | I8: ==I6-I7 -> 3069.1229 | J8: ==J6-J7 -> 2894.2704 | K8: ==K6-K7 -> 2719.4178 | L8: ==L6-L7 -> 2544.5652 | M8: ==M6-M7 -> 2369.7126 | ... Q8: ==Q6-Q7 -> 1670.3023
A9: 2 | B9: 折旧费 | C9: ==SUM(F9:Q9) -> 2010.8047 | F9: ==F7 -> 87.42629 | G9: ==G7 -> 174.85258 | H9: ==H7 -> 174.85258 | I9: ==I7 -> 174.85258 | J9: ==J7 -> 174.85258 | K9: ==K7 -> 174.85258 | L9: ==L7 -> 174.85258 | M9: ==M7 -> 174.85258 | ... Q9: ==Q7 -> 174.85258
A10: 3 | B10: 无形资产摊销
A11: 3.1 | B11: 原值
A12: 3.2 | B12: 当期折旧额
A13: 3.3 | B13: 净值

Sheet 营业收入及税金表
A1: 营业收入及税金表
B2: ==E7*E9*E10 -> 3526858.7 | L2: 单位：万元
A3: 序号 | B3: 项目 | C3: 合计 | D3: 运营期
D4: 0.5 | E4: 2 | F4: 3 | G4: 4 | H4: 5 | I4: 6 | J4: 7 | K4: 8 | L4: 9 | M4: 10 | N4: 11 | O4: 12
A5: 1 | B5: 营业收入 | C5: ==SUM((E5:O5)) -> 6439.3943 | D5: ==D6+D12+D15 -> 291.92028 | E5: ==E6+E12+E15 -> 584.81369 | F5: ==F6+F12+F15 -> 585.79177 | G5: ==G6+G12+G15 -> 586.77478 | H5: ==H6+H12+H15 -> 587.76271 | I5: ==I6+I12+I15 -> 587.77273 | J5: ==J6+J12+J15 -> 586.80481 | K5: ==K6+K12+K15 -> 585.84174 | ... O5: ==O6+O12+O15 -> 582.03734
A6: 1.1 | B6: 光伏收入 | C6: ==SUM(D6:O6) -> 2218.2862 | D6: ==(D7*D9*D10)*D11/10000 -> 99.248285 | E6: ==(E7*E9*E10)*E11/10000 -> 197.50409 | F6: ==(F7*F9*F10)*F11/10000 -> 196.51657 | G6: ==(G7*G9*G10)*G11/10000 -> 195.53398 | H6: ==(H7*H9*H10)*H11/10000 -> 194.55631 | I6: ==(I7*I9*I10)*I11/10000 -> 193.58353 | J6: ==(J7*J9*J10)*J11/10000 -> 192.61561 | K6: ==(K7*K9*K10)*K11/10000 -> 191.65254 | ... O6: ==(O7*O9*O10)*O11/10000 -> 187.84814
A7: 1.1.1 | B7: 装机容量 | D7: ==3000*(1-D8) -> 2940 | E7: ==D7*(1-E8) -> 2925.3 | F7: ==E7*(1-F8) -> 2910.6735 | G7: ==F7*(1-G8) -> 2896.1201 | H7: ==G7*(1-H8) -> 2881.6395 | I7: ==H7*(1-I8) -> 2867.2313 | J7: ==I7*(1-J8) -> 2852.8952 | K7: ==J7*(1-K8) -> 2838.6307 | L7: ==K7*(1-L8) -> 2824.4375 | ... O7: ==N7*(1-O8) -> 2782.2825
A8: 1.1.2 | B8: 衰减值 | D8: 0.02 | E8: 0.005 | F8: 0.005 | G8: ==F8 -> 0.005 | H8: 0.005 | I8: 0.005 | J8: 0.005 | K8: 0.005 | L8: 0.005 | M8: ==L8 -> 0.005 | N8: ==M8 -> 0.005 | O8: ==N8 -> 0.005
A9: 1.1.3 | B9: 1KW 光伏装机容量平均日发电量 | D9: 3.349 | E9: ==D9 -> 3.349 | F9: ==E9 -> 3.349 | G9: ==F9 -> 3.349 | H9: ==G9 -> 3.349 | I9: ==H9 -> 3.349 | J9: ==I9 -> 3.349 | K9: ==J9 -> 3.349 | L9: ==K9 -> 3.349 | ... O9: ==N9 -> 3.349
A10: 1.1.4 | B10: 年发电天数 | D10: 180 | E10: 360 | F10: ==E10 -> 360 | G10: ==F10 -> 360 | H10: ==G10 -> 360 | I10: ==H10 -> 360 | J10: ==I10 -> 360 | K10: ==J10 -> 360 | L10: ==K10 -> 360 | M10: ==L10 -> 360 | ... O10: ==N10 -> 360
A11: 1.1.5 | B11: 工商业用电平均电价 | D11: 0.56 | E11: ==D11 -> 0.56 | F11: ==E11 -> 0.56 | G11: ==F11 -> 0.56 | H11: ==G11 -> 0.56 | I11: ==H11 -> 0.56 | J11: ==I11 -> 0.56 | K11: ==J11 -> 0.56 | L11: ==K11 -> 0.56 | ... O11: ==N11 -> 0.56
A12: 1.2 | B12: 储能收入 | C12: ==SUM((D12:O12)) -> 4318.434 | D12: ==(D13*D14)*180/10000 -> 187.758 | E12: ==(E13*E14)*360/10000 -> 375.516 | F12: ==(F13*F14)*360/10000 -> 375.516 | G12: ==(G13*G14)*360/10000 -> 375.516 | H12: ==(H13*H14)*360/10000 -> 375.516 | I12: ==(I13*I14)*360/10000 -> 375.516 | J12: ==(J13*J14)*360/10000 -> 375.516 | K12: ==(K13*K14)*360/10000 -> 375.516 | L12: ==(L13*L14)*360/10000 -> 375.516 | ... O12: ==(O13*O14)*360/10000 -> 375.516
A13: 1.2.1 | B13: 储能销售电价 | D13: 0.61 | E13: ==D13 -> 0.61 | F13: ==E13 -> 0.61 | G13: ==F13 -> 0.61 | H13: ==G13 -> 0.61 | I13: ==H13 -> 0.61 | J13: ==I13 -> 0.61 | K13: ==J13 -> 0.61 | L13: ==K13 -> 0.61 | ... O13: ==N13 -> 0.61
A14: 1.2.2 | B14: 360天一充一放扣能耗（万kwh/n) | D14: 17100 | E14: ==D14 -> 17100 | F14: ==E14 -> 17100 | G14: ==F14 -> 17100 | H14: ==G14 -> 17100 | I14: ==H14 -> 17100 | J14: ==I14 -> 17100 | K14: ==J14 -> 17100 | L14: ==K14 -> 17100 | ... O14: ==N14 -> 17100
A15: 1.4 | B15: 60kw充电桩收入 | C15: ==SUM(D15:O16) -> 242.5944 | D15: ==D16*D17*D18*D19*D20*D21/10000 -> 4.914 | E15: ==E16*E17*E18*E19*E20*E21/10000 -> 11.7936 | F15: ==F16*F17*F18*F19*F20*F21/10000 -> 13.7592 | G15: ==G16*G17*G18*G19*G20*G21/10000 -> 15.7248 | H15: ==H16*H17*H18*H19*H20*H21/10000 -> 17.6904 | I15: ==I16*I17*I18*I19*I20*I21/10000 -> 18.6732 | J15: ==J16*J17*J18*J19*J20*J21/10000 -> 18.6732 | K15: ==K16*K17*K18*K19*K20*K21/10000 -> 18.6732 | ... O15: ==O16*O17*O18*O19*O20*O21/10000 -> 18.6732
A16: 1.4.1 | B16: 充电桩数量 | D16: 4 | E16: ==D16 -> 4 | F16: ==E16 -> 4 | G16: ==F16 -> 4 | H16: ==G16 -> 4 | I16: ==H16 -> 4 | J16: ==I16 -> 4 | K16: ==J16 -> 4 | L16: ==K16 -> 4 | ... O16: ==N16 -> 4
A17: 1.4.2 | B17: 充电使用率 | D17: 0.5 | E17: 0.6 | F17: 0.7 | G17: 0.8 | H17: 0.9 | I17: 0.95 | J17: 0.95 | K17: 0.95 | L17: 0.95 | M17: ==L17 -> 0.95 | N17: ==M17 -> 0.95 | O17: ==N17 -> 0.95
A18: 1.4.3 | B18: 收费标准 | D18: 0.65 | E18: ==D18 -> 0.65 | F18: ==E18 -> 0.65 | G18: ==F18 -> 0.65 | H18: ==G18 -> 0.65 | I18: ==H18 -> 0.65 | J18: ==I18 -> 0.65 | K18: ==J18 -> 0.65 | L18: ==K18 -> 0.65 | ... O18: ==N18 -> 0.65
A19: 1.4.4 | B19: 充电桩每小时充电量 | D19: 60 | E19: 60 | F19: 60 | G19: 60 | H19: 60 | I19: 60 | J19: 60 | K19: 60 | L19: 60 | M19: ==L19 -> 60 | N19: ==M19 -> 60 | O19: ==N19 -> 60
A20: 1.4.5 | B20: 充电小时数 | D20: 3.5 | E20: ==D20 -> 3.5 | F20: ==E20 -> 3.5 | G20: ==F20 -> 3.5 | H20: ==G20 -> 3.5 | I20: ==H20 -> 3.5 | J20: ==I20 -> 3.5 | K20: ==J20 -> 3.5 | L20: ==K20 -> 3.5 | ... O20: ==N20 -> 3.5
A21: 1.4.6 | B21: 年运营时间 | D21: 180 | E21: 360 | F21: ==E21 -> 360 | G21: ==F21 -> 360 | H21: ==G21 -> 360 | I21: ==H21 -> 360 | J21: ==I21 -> 360 | K21: ==J21 -> 360 | L21: ==K21 -> 360 | M21: ==L21 -> 360 | ... O21: ==N21 -> 360
A22: 2 | B22: 营业税金与附加 | C22: ==SUM((D22:O22)) -> 83.007449 | D22: ==D23+D24+D25+D26 -> 3.6474557 | E22: ==E23+E24+E25+E26 -> 7.2488027 | F22: ==F23+F24+F25+F26 -> 7.2477586 | G22: ==G23+G24+G25+G26 -> 7.2467786 | H22: ==H23+H24+H25+H26 -> 7.2458625 | I22: ==I23+I24+I25+I26 -> 7.2346131 | J22: ==J23+J24+J25+J26 -> 7.2220302 | K22: ==K23+K24+K25+K26 -> 7.2095102 | ... O22: ==O23+O24+O25+O26 -> 7.155328
A23: 2.1 | B23: 营业税
A24: 2.2 | B24: 消费税
A25: 2.3 | B25: 城市建设维护税 | C25: ==SUM((D25:M25)) -> 48.079165 | D25: ==D27*0.07 -> 2.553219 | E25: ==E27*0.07 -> 5.0741619 | F25: ==F27*0.07 -> 5.073431 | G25: ==G27*0.07 -> 5.072745 | H25: ==H27*0.07 -> 5.0721037 | I25: ==I27*0.07 -> 5.0642292 | J25: ==J27*0.07 -> 5.0554211 | K25: ==K27*0.07 -> 5.0466571 | ... O25: ==O27*0.07 -> 5.0087296
A26: 2.4 | B26: 教育费附加 | C26: ==SUM((D26:M26)) -> 20.605357 | D26: ==D27*0.03 -> 1.0942367 | E26: ==E27*0.03 -> 2.1746408 | F26: ==F27*0.03 -> 2.1743276 | G26: ==G27*0.03 -> 2.1740336 | H26: ==H27*0.03 -> 2.1737587 | I26: ==I27*0.03 -> 2.1703839 | J26: ==J27*0.03 -> 2.1666091 | K26: ==K27*0.03 -> 2.1628531 | ... O26: ==O27*0.03 -> 2.1465984
A27: 3 | B27: 增值税 | C27: ==SUM((D27:M27)) -> 686.84522 | D27: ==D28-D29 -> 36.474557 | E27: ==E28-E29 -> 72.488027 | F27: ==F28-F29 -> 72.477586 | G27: ==G28-G29 -> 72.467786 | H27: ==H28-H29 -> 72.458625 | I27: ==I28-I29 -> 72.346131 | J27: ==J28-J29 -> 72.220302 | K27: ==K28-K29 -> 72.095102 | ... O27: ==O28-O29 -> 71.55328
A28: 3.1 | B28: 销项税额 | C28: ==SUM((D28:M28)) -> 712.61112 | D28: ==(D6+D12)*0.13+D15*0.06 -> 37.605657 | E28: ==(E6+E12)*0.13+E15*0.06 -> 75.200227 | F28: ==(F6+F12)*0.13+F15*0.06 -> 75.189786 | G28: ==(G6+G12)*0.13+G15*0.06 -> 75.179986 | H28: ==(H6+H12)*0.13+H15*0.06 -> 75.170825 | I28: ==(I6+I12)*0.13+I15*0.06 -> 75.103331 | J28: ==(J6+J12)*0.13+J15*0.06 -> 74.977502 | K28: ==(K6+K12)*0.13+K15*0.06 -> 74.852302 | ... O28: ==(O6+O12)*0.13+O15*0.06 -> 74.35773
A29: 3.2 | B29: 进项税额 | C29: ==SUM((D29:M29)) -> 25.7659 | D29: ==总成本费用表!D5*0.13+总成本费用表!D10*0.09 -> 1.1311 | E29: ==总成本费用表!E5*0.13+总成本费用表!E10*0.09 -> 2.7122 | F29: ==总成本费用表!F5*0.13+总成本费用表!F10*0.09 -> 2.7122 | G29: ==总成本费用表!G5*0.13+总成本费用表!G10*0.09 -> 2.7122 | H29: ==总成本费用表!H5*0.13+总成本费用表!H10*0.09 -> 2.7122 | I29: ==总成本费用表!I5*0.13+总成本费用表!I10*0.09 -> 2.7572 | J29: ==总成本费用表!J5*0.13+总成本费用表!J10*0.09 -> 2.7572 | K29: ==总成本费用表!K5*0.13+总成本费用表!K10*0.09 -> 2.7572 | ... O29: ==总成本费用表!O5*0.13+总成本费用表!O10*0.09 -> 2.80445

Sheet 总成本费用表
A1: 总成本费用表
L2: 单位：万元
A3: 序号 | B3: 项目 | C3: 合计 | D3: 运营期
D4: 0.5 | E4: 2 | F4: 3 | G4: 4 | H4: 5 | I4: 6 | J4: 7 | K4: 8 | L4: 9 | M4: 10 | N4: 11 | O4: 12
A5: 1 | B5: 外购燃料及动力费 | C5: ==SUM(D5:O5) -> 160.31 | D5: ==2.6*0.5+D6 -> 6.97 | E5: ==2.6+E6 -> 13.94 | F5: ==2.6+F6 -> 13.94 | G5: ==2.6+G6 -> 13.94 | H5: ==2.6+H6 -> 13.94 | I5: ==2.6+I6 -> 13.94 | J5: ==2.6+J6 -> 13.94 | K5: ==2.6+K6 -> 13.94 | L5: ==2.6+L6 -> 13.94 | ... O5: ==2.6+O6 -> 13.94
B6: 储能电量 | D6: ==900*180*0.35/10000 -> 5.67 | E6: ==900*360*0.35/10000 -> 11.34 | F6: ==900*360*0.35/10000 -> 11.34 | G6: ==900*360*0.35/10000 -> 11.34 | H6: ==900*360*0.35/10000 -> 11.34 | I6: ==900*360*0.35/10000 -> 11.34 | J6: ==900*360*0.35/10000 -> 11.34 | K6: ==900*360*0.35/10000 -> 11.34 | L6: ==900*360*0.35/10000 -> 11.34 | ... O6: ==900*360*0.35/10000 -> 11.34
A7: 2 | B7: 工资及福利费 | C7: ==SUM(D7:O7) -> 329.6104 | D7: ==4*7*0.5 -> 14 | E7: ==4*7 -> 28 | F7: ==E7 -> 28 | G7: ==F7 -> 28 | H7: ==G7 -> 28 | I7: ==H7*1.03 -> 28.84 | J7: ==I7 -> 28.84 | K7: ==J7 -> 28.84 | L7: ==K7 -> 28.84 | M7: ==L7 -> 28.84 | N7: ==M7*1.03 -> 29.7052 | O7: ==N7 -> 29.7052
A8: 3 | B8: 保洁维护费 | C8: ==SUM(D8:O8) -> 169.2225 | D8: 7.3575 | E8: 14.715 | F8: ==E8 -> 14.715 | G8: ==F8 -> 14.715 | H8: ==G8 -> 14.715 | I8: ==H8 -> 14.715 | J8: ==I8 -> 14.715 | K8: ==J8 -> 14.715 | L8: ==K8 -> 14.715 | M8: ==L8 -> 14.715 | ... O8: ==N8 -> 14.715
A9: 4 | B9: 电网过路费 | C9: ==SUM(D9:O9) -> 237.67352 | D9: ==(营业收入及税金表!D7*营业收入及税金表!D9*营业收入及税金表!D10)*0.06/10000 -> 10.633745 | E9: ==(营业收入及税金表!E7*营业收入及税金表!E9*营业收入及税金表!E10)*0.06/10000 -> 21.161152 | F9: ==(营业收入及税金表!F7*营业收入及税金表!F9*营业收入及税金表!F10)*0.06/10000 -> 21.055346 | G9: ==(营业收入及税金表!G7*营业收入及税金表!G9*营业收入及税金表!G10)*0.06/10000 -> 20.95007 | H9: ==(营业收入及税金表!H7*营业收入及税金表!H9*营业收入及税金表!H10)*0.06/10000 -> 20.845319 | I9: ==(营业收入及税金表!I7*营业收入及税金表!I9*营业收入及税金表!I10)*0.06/10000 -> 20.741093 | J9: ==(营业收入及税金表!J7*营业收入及税金表!J9*营业收入及税金表!J10)*0.06/10000 -> 20.637387 | K9: ==(营业收入及税金表!K7*营业收入及税金表!K9*营业收入及税金表!K10)*0.06/10000 -> 20.5342 | ... O9: ==(营业收入及税金表!O7*营业收入及税金表!O9*营业收入及税金表!O10)*0.06/10000 -> 20.126586
A10: 6 | B10: 管理费及其他 | C10: ==SUM(D10:O10) -> 117.05 | D10: ==5/2 -> 2.5 | E10: 10 | F10: ==E10 -> 10 | G10: ==F10 -> 10 | H10: ==G10 -> 10 | I10: ==H10*1.05 -> 10.5 | J10: ==I10 -> 10.5 | K10: ==J10 -> 10.5 | L10: ==K10 -> 10.5 | M10: ==L10 -> 10.5 | N10: ==M10*1.05 -> 11.025 | O10: ==N10 -> 11.025
A11: 7 | B11: 经营成本（1+2+3+4+5+6） | C11: ==SUM(D11:O11) -> 1013.8664 | D11: ==SUM(D7:D10)+D5 -> 41.461245 | E11: ==SUM(E7:E10)+E5 -> 87.816152 | F11: ==SUM(F7:F10)+F5 -> 87.710346 | G11: ==SUM(G7:G10)+G5 -> 87.60507 | H11: ==SUM(H7:H10)+H5 -> 87.500319 | I11: ==SUM(I7:I10)+I5 -> 88.736093 | J11: ==SUM(J7:J10)+J5 -> 88.632387 | K11: ==SUM(K7:K10)+K5 -> 88.5292 | ... O11: ==SUM(O7:O10)+O5 -> 89.511786
A12: 8 | B12: 折旧费 | C12: ==SUM(D12:O12) -> 2010.8047 | D12: ==固定资产折旧!F9 -> 87.42629 | E12: ==固定资产折旧!G9 -> 174.85258 | F12: ==固定资产折旧!H9 -> 174.85258 | G12: ==固定资产折旧!I9 -> 174.85258 | H12: ==固定资产折旧!J9 -> 174.85258 | I12: ==固定资产折旧!K9 -> 174.85258 | J12: ==固定资产折旧!L9 -> 174.85258 | K12: ==固定资产折旧!M9 -> 174.85258 | ... O12: ==固定资产折旧!Q9 -> 174.85258
A13: 10 | B13: 摊销费 | C13: ==SUM(D13:O13) -> 0
A14: 11 | B14: 利息支出 | C14: ==SUM(D14:O14) -> 1022.364 | D14: ==还本付息表!E9 -> 79.38 | E14: ==还本付息表!F9 -> 150.696 | F14: ==还本付息表!G9 -> 139.608 | G14: ==还本付息表!H9 -> 128.268 | H14: ==还本付息表!I9 -> 116.172 | I14: ==还本付息表!J9 -> 103.068 | J14: ==还本付息表!K9 -> 89.46 | K14: ==还本付息表!L9 -> 75.096 | ... O14: ==还本付息表!P9 -> 9.324
A15: 12 | B15: 总成本费用合计（6+7+8+9） | C15: ==SUM(D15:O15) -> 4047.0351 | D15: ==SUM(D11:D14) -> 208.26754 | E15: ==SUM(E11:E14) -> 413.36473 | F15: ==SUM(F11:F14) -> 402.17093 | G15: ==SUM(G11:G14) -> 390.72565 | H15: ==SUM(H11:H14) -> 378.5249 | I15: ==SUM(I11:I14) -> 366.65667 | J15: ==SUM(J11:J14) -> 352.94497 | K15: ==SUM(K11:K14) -> 338.47778 | ... O15: ==SUM(O11:O14) -> 273.68837
A16: 12.1 | B16: 其中：固定成本 | C16: ==SUM(D16:O16) -> 3150.2187 | D16: ==D10+D12+D13+D14 -> 169.30629 | E16: ==E10+E12+E13+E14 -> 335.54858 | F16: ==F10+F12+F13+F14 -> 324.46058 | G16: ==G10+G12+G13+G14 -> 313.12058 | H16: ==H10+H12+H13+H14 -> 301.02458 | I16: ==I10+I12+I13+I14 -> 288.42058 | J16: ==J10+J12+J13+J14 -> 274.81258 | K16: ==K10+K12+K13+K14 -> 260.44858 | ... O16: ==O10+O12+O13+O14 -> 195.20158
A17: 12.2 | B17: 可变成本 | C17: ==SUM(D17:O17) -> 659.1429 | D17: ==D5+D7+D8 -> 28.3275 | E17: ==E5+E7+E8 -> 56.655 | F17: ==F5+F7+F8 -> 56.655 | G17: ==G5+G7+G8 -> 56.655 | H17: ==H5+H7+H8 -> 56.655 | I17: ==I5+I7+I8 -> 57.495 | J17: ==J5+J7+J8 -> 57.495 | K17: ==K5+K7+K8 -> 57.495 | ... O17: ==O5+O7+O8 -> 58.3602

Sheet 利润及利润分配表
A1: 利润及利润分配表
K2: 单位：万元
A3: 序号 | D3: 运营期
B4: 项 目 | C4: 合计 | D4: 0.5 | E4: 2 | F4: 3 | G4: 4 | H4: 5 | I4: 6 | J4: 7 | K4: 8 | L4: 9 | M4: 10 | N4: 11 | O4: 12
A5: 1 | B5: 营业收入 | C5: ==SUM(D5:O5) -> 6731.3146 | D5: ==营业收入及税金表!D5 -> 291.92028 | E5: ==营业收入及税金表!E5 -> 584.81369 | F5: ==营业收入及税金表!F5 -> 585.79177 | G5: ==营业收入及税金表!G5 -> 586.77478 | H5: ==营业收入及税金表!H5 -> 587.76271 | I5: ==营业收入及税金表!I5 -> 587.77273 | J5: ==营业收入及税金表!J5 -> 586.80481 | K5: ==营业收入及税金表!K5 -> 585.84174 | ... O5: ==营业收入及税金表!O5 -> 582.03734
A6: 2 | B6: 营业税金及附加 | C6: ==SUM(D6:O6) -> 83.007449 | D6: ==营业收入及税金表!D22 -> 3.6474557 | E6: ==营业收入及税金表!E22 -> 7.2488027 | F6: ==营业收入及税金表!F22 -> 7.2477586 | G6: ==营业收入及税金表!G22 -> 7.2467786 | H6: ==营业收入及税金表!H22 -> 7.2458625 | I6: ==营业收入及税金表!I22 -> 7.2346131 | J6: ==营业收入及税金表!J22 -> 7.2220302 | K6: ==营业收入及税金表!K22 -> 7.2095102 | ... O6: ==营业收入及税金表!O22 -> 7.155328
A7: 3 | B7: 增值税 | C7: ==SUM(D7:O7) -> 830.07449 | D7: ==营业收入及税金表!D27 -> 36.474557 | E7: ==营业收入及税金表!E27 -> 72.488027 | F7: ==营业收入及税金表!F27 -> 72.477586 | G7: ==营业收入及税金表!G27 -> 72.467786 | H7: ==营业收入及税金表!H27 -> 72.458625 | I7: ==营业收入及税金表!I27 -> 72.346131 | J7: ==营业收入及税金表!J27 -> 72.220302 | K7: ==营业收入及税金表!K27 -> 72.095102 | ... O7: ==营业收入及税金表!O27 -> 71.55328
A8: 4 | B8: 总成本费用 | C8: ==SUM(D8:O8) -> 4047.0351 | D8: ==总成本费用表!D15 -> 208.26754 | E8: ==总成本费用表!E15 -> 413.36473 | F8: ==总成本费用表!F15 -> 402.17093 | G8: ==总成本费用表!G15 -> 390.72565 | H8: ==总成本费用表!H15 -> 378.5249 | I8: ==总成本费用表!I15 -> 366.65667 | J8: ==总成本费用表!J15 -> 352.94497 | K8: ==总成本费用表!K15 -> 338.47778 | ... O8: ==总成本费用表!O15 -> 273.68837
A9: 5 | B9: 补贴收入
A10: 6 | B10: 利润总额（1-2-3+4） | C10: ==SUM(D10:O10) -> 1771.1976 | D10: ==D5-D6-D7-D8+D9 -> 43.530737 | E10: ==E5-E6-E7-E8+E9 -> 91.712124 | F10: ==F5-F6-F7-F8+F9 -> 103.89549 | G10: ==G5-G6-G7-G8+G9 -> 116.33457 | H10: ==H5-H6-H7-H8+H9 -> 129.53333 | I10: ==I5-I6-I7-I8+I9 -> 141.53531 | J10: ==J5-J6-J7-J8+J9 -> 154.41751 | K10: ==K5-K6-K7-K8+K9 -> 168.05934 | ... O10: ==O5-O6-O7-O8+O9 -> 229.64036
A11: 7 | B11: 弥补以前年度亏损
A12: 8 | B12: 应纳税所得额（5-6） | C12: ==SUM(D12:O12) -> 1771.1976 | D12: ==D10-D11 -> 43.530737 | E12: ==E10-E11 -> 91.712124 | F12: ==F10-F11 -> 103.89549 | G12: ==G10-G11 -> 116.33457 | H12: ==H10-H11 -> 129.53333 | I12: ==I10-I11 -> 141.53531 | J12: ==J10-J11 -> 154.41751 | K12: ==K10-K11 -> 168.05934 | ... O12: ==O10-O11 -> 229.64036
A13: 9 | B13: 所得税 | C13: ==SUM(D13:O13) -> 442.7994 | D13: ==D12*0.25 -> 10.882684 | E13: ==E12*0.25 -> 22.928031 | F13: ==F12*0.25 -> 25.973874 | G13: ==G12*0.25 -> 29.083642 | H13: ==H12*0.25 -> 32.383332 | I13: ==I12*0.25 -> 35.383829 | J13: ==J12*0.25 -> 38.604379 | K13: ==K12*0.25 -> 42.014836 | ... O13: ==O12*0.25 -> 57.410091
A14: 10 | B14: 净利润（5-8） | C14: ==SUM(D14:O14) -> 1328.3982 | D14: ==D10-D11-D13 -> 32.648053 | E14: ==E10-E11-E13 -> 68.784093 | F14: ==F10-F11-F13 -> 77.921621 | G14: ==G10-G11-G13 -> 87.250926 | H14: ==H10-H11-H13 -> 97.149995 | I14: ==I10-I11-I13 -> 106.15149 | J14: ==J10-J11-J13 -> 115.81314 | K14: ==K10-K11-K13 -> 126.04451 | ... O14: ==O10-O11-O13 -> 172.23027
A15: 11 | B15: 期初未分配利润 | C15: ==SUM(D15:O15) -> 5141.5072 | D15: 0 | E15: ==D24 -> 29.383247 | F15: ==E24 -> 91.288931 | G15: ==F24 -> 161.41839 | H15: ==G24 -> 239.94422 | I15: ==H24 -> 327.37922 | J15: ==I24 -> 422.91556 | K15: ==J24 -> 527.14738 | L15: ==K24 -> 640.58743 | ... O15: ==N24 -> 1040.5511
A16: 12 | B16: 可供分配的利润（9+10） | C16: ==SUM(D16:O16) -> 6469.9053 | D16: ==D14+D15+D11 -> 32.648053 | E16: ==E14+E15+E11 -> 98.16734 | F16: ==F14+F15+F11 -> 169.21055 | G16: ==G14+G15+G11 -> 248.66932 | H16: ==H14+H15+H11 -> 337.09422 | I16: ==I14+I15+I11 -> 433.5307 | J16: ==J14+J15+J11 -> 538.72869 | K16: ==K14+K15+K11 -> 653.19189 | ... O16: ==O14+O15+O11 -> 1212.7814
A17: 13 | B17: 提取法定盈余公积金 | C17: ==SUM(D17:O17) -> 132.83982 | D17: ==D14*0.1 -> 3.2648053 | E17: ==E14*0.1 -> 6.8784093 | F17: ==F14*0.1 -> 7.7921621 | G17: ==G14*0.1 -> 8.7250926 | H17: ==H14*0.1 -> 9.7149995 | I17: ==I14*0.1 -> 10.615149 | J17: ==J14*0.1 -> 11.581314 | K17: ==K14*0.1 -> 12.604451 | ... O17: ==O14*0.1 -> 17.223027
A18: 14 | B18: 可供投资者分配的利润（11-12） | C18: ==SUM(D18:O18) -> 6337.0655 | D18: ==D16-D17 -> 29.383247 | E18: ==E16-E17 -> 91.288931 | F18: ==F16-F17 -> 161.41839 | G18: ==G16-G17 -> 239.94422 | H18: ==H16-H17 -> 327.37922 | I18: ==I16-I17 -> 422.91556 | J18: ==J16-J17 -> 527.14738 | K18: ==K16-K17 -> 640.58743 | ... O18: ==O16-O17 -> 1195.5584
A19: 15 | B19: 应付优先股股利
A20: 16 | B20: 提取任意盈余公积金
A21: 17 | B21: 应付普通股股利（13-14-15）
A22: 18 | B22: 各投资方利润分配
B23: 其中：
A24: 19 | B24: 未分配利润（13-14-15-17） | C24: ==SUM(D24:O24) -> 6337.0655 | D24: ==D18-D19-D20-D21-D22 -> 29.383247 | E24: ==E18-E19-E20-E21-E22 -> 91.288931 | F24: ==F18-F19-F20-F21-F22 -> 161.41839 | G24: ==G18-G19-G20-G21-G22 -> 239.94422 | H24: ==H18-H19-H20-H21-H22 -> 327.37922 | I24: ==I18-I19-I20-I21-I22 -> 422.91556 | J24: ==J18-J19-J20-J21-J22 -> 527.14738 | K24: ==K18-K19-K20-K21-K22 -> 640.58743 | ... O24: ==O18-O19-O20-O21-O22 -> 1195.5584
A25: 20 | B25: 息税前利润（利润总额+利息支出） | C25: ==SUM(D25:O25) -> 2793.5616 | D25: ==D10+总成本费用表!D14 -> 122.91074 | E25: ==E10+总成本费用表!E14 -> 242.40812 | F25: ==F10+总成本费用表!F14 -> 243.50349 | G25: ==G10+总成本费用表!G14 -> 244.60257 | H25: ==H10+总成本费用表!H14 -> 245.70533 | I25: ==I10+总成本费用表!I14 -> 244.60331 | J25: ==J10+总成本费用表!J14 -> 243.87751 | K25: ==K10+总成本费用表!K14 -> 243.15534 | ... O25: ==O10+总成本费用表!O14 -> 238.96436
A26: 21 | B26: 息税折旧摊销前利润（息税前利润+折旧+摊销） | C26: ==SUM(D26:O26) -> 4804.3663 | D26: ==D25+总成本费用表!D12+总成本费用表!D13 -> 210.33703 | E26: ==E25+总成本费用表!E12+总成本费用表!E13 -> 417.2607 | F26: ==F25+总成本费用表!F12+总成本费用表!F13 -> 418.35608 | G26: ==G25+总成本费用表!G12+总成本费用表!G13 -> 419.45515 | H26: ==H25+总成本费用表!H12+总成本费用表!H13 -> 420.55791 | I26: ==I25+总成本费用表!I12+总成本费用表!I13 -> 419.4559 | J26: ==J25+总成本费用表!J12+总成本费用表!J13 -> 418.7301 | K26: ==K25+总成本费用表!K12+总成本费用表!K13 -> 418.00792 | ... O26: ==O25+总成本费用表!O12+总成本费用表!O13 -> 413.81694

Sheet 项目投资现金流量表
A1: 项目投资现金流量表
M2: 单位：万元
A3: 序号 | B3: 项目 | C3: 合计 | D3: 计算期
D4: 1 | E4: 2 | F4: 3 | G4: 4 | H4: 5 | I4: 6 | J4: 7 | K4: 8 | L4: 9 | M4: 10 | N4: 11 | O4: 12
A5: 1 | B5: 现金流入 | C5: ==SUM(D5:O5) -> 8765.6824 | D5: ==D6+D7+D8+D9 -> 655.98581 | E5: ==E6+E7+E8+E9 -> 584.81369 | F5: ==F6+F7+F8+F9 -> 585.79177 | G5: ==G6+G7+G8+G9 -> 586.77478 | H5: ==H6+H7+H8+H9 -> 587.76271 | I5: ==I6+I7+I8+I9 -> 587.77273 | J5: ==J6+J7+J8+J9 -> 586.80481 | K5: ==K6+K7+K8+K9 -> 585.84174 | ... O5: ==O6+O7+O8+O9 -> 2252.3396
A6: 1.1 | B6: 营业收入 | C6: ==SUM(D6:O6) -> 6731.3146 | D6: ==营业收入及税金表!D5 -> 291.92028 | E6: ==营业收入及税金表!E5 -> 584.81369 | F6: ==营业收入及税金表!F5 -> 585.79177 | G6: ==营业收入及税金表!G5 -> 586.77478 | H6: ==营业收入及税金表!H5 -> 587.76271 | I6: ==营业收入及税金表!I5 -> 587.77273 | J6: ==营业收入及税金表!J5 -> 586.80481 | K6: ==营业收入及税金表!K5 -> 585.84174 | ... O6: ==营业收入及税金表!O5 -> 582.03734
A7: 1.2 | B7: 留抵退税 | C7: ==SUM(D7:O7) -> 364.06552 | D7: ==D11*0.09 -> 364.06552
A8: 1.3 | B8: 回收固定资产余值 | C8: ==SUM(D8:O8) -> 1670.3023 | O8: ==固定资产折旧!Q8 -> 1670.3023
A9: 1.4 | B9: 回收流动资金
A10: 2 | B10: 现金流出 | C10: ==SUM(D10:O10) -> 5972.1209 | D10: ==D11+D12+D13+D14+D15+D16 -> 4126.7557 | E10: ==E11+E12+E13+E14+E15+E16 -> 167.55298 | F10: ==F11+F12+F13+F14+F15+F16 -> 167.43569 | G10: ==G11+G12+G13+G14+G15+G16 -> 167.31963 | H10: ==H11+H12+H13+H14+H15+H16 -> 167.20481 | I10: ==I11+I12+I13+I14+I15+I16 -> 168.31684 | J10: ==J11+J12+J13+J14+J15+J16 -> 168.07472 | K10: ==K11+K12+K13+K14+K15+K16 -> 167.83381 | ... O10: ==O11+O12+O13+O14+O15+O16 -> 168.22039
A11: 2.1 | B11: 建设投资 | C11: ==SUM(D11:O11) -> 4045.1725 | D11: ==总投资!G50 -> 4045.1725
A12: 2.2 | B12: 流动资金
A13: 2.3 | B13: 经营成本 | C13: ==SUM(D13:O13) -> 1013.8664 | D13: ==总成本费用表!D11 -> 41.461245 | E13: ==总成本费用表!E11 -> 87.816152 | F13: ==总成本费用表!F11 -> 87.710346 | G13: ==总成本费用表!G11 -> 87.60507 | H13: ==总成本费用表!H11 -> 87.500319 | I13: ==总成本费用表!I11 -> 88.736093 | J13: ==总成本费用表!J11 -> 88.632387 | K13: ==总成本费用表!K11 -> 88.5292 | ... O13: ==总成本费用表!O11 -> 89.511786
A14: 2.4 | B14: 营业税金及附加 | C14: ==SUM(D14:O14) -> 83.007449 | D14: ==营业收入及税金表!D22 -> 3.6474557 | E14: ==营业收入及税金表!E22 -> 7.2488027 | F14: ==营业收入及税金表!F22 -> 7.2477586 | G14: ==营业收入及税金表!G22 -> 7.2467786 | H14: ==营业收入及税金表!H22 -> 7.2458625 | I14: ==营业收入及税金表!I22 -> 7.2346131 | J14: ==营业收入及税金表!J22 -> 7.2220302 | K14: ==营业收入及税金表!K22 -> 7.2095102 | ... O14: ==营业收入及税金表!O22 -> 7.155328
A15: 2.5 | B15: 增值税 | C15: ==SUM(D15:O15) -> 830.07449 | D15: ==利润及利润分配表!D7 -> 36.474557 | E15: ==利润及利润分配表!E7 -> 72.488027 | F15: ==利润及利润分配表!F7 -> 72.477586 | G15: ==利润及利润分配表!G7 -> 72.467786 | H15: ==利润及利润分配表!H7 -> 72.458625 | I15: ==利润及利润分配表!I7 -> 72.346131 | J15: ==利润及利润分配表!J7 -> 72.220302 | K15: ==利润及利润分配表!K7 -> 72.095102 | ... O15: ==利润及利润分配表!O7 -> 71.55328
A16: 2.6 | B16: 维持运营投资
A17: 3 | B17: 所得税前净现金流量（1-2） | C17: ==SUM(D17:O17) -> 2793.5616 | D17: ==D5-D10 -> -3470.7699 | E17: ==E5-E10 -> 417.2607 | F17: ==F5-F10 -> 418.35608 | G17: ==G5-G10 -> 419.45515 | H17: ==H5-H10 -> 420.55791 | I17: ==I5-I10 -> 419.4559 | J17: ==J5-J10 -> 418.7301 | K17: ==K5-K10 -> 418.00792 | ... O17: ==O5-O10 -> 2084.1192
A18: 4 | B18: 累计所得税前净现金流量 | D18: ==D17 -> -3470.7699 | E18: ==D18+E17 -> -3053.5092 | F18: ==E18+F17 -> -2635.1532 | G18: ==F18+G17 -> -2215.698 | H18: ==G18+H17 -> -1795.1401 | I18: ==H18+I17 -> -1375.6842 | J18: ==I18+J17 -> -956.95411 | K18: ==J18+K17 -> -538.94619 | L18: ==K18+L17 -> -121.65682 | ... O18: ==N18+O17 -> 2793.5616
A19: 5 | B19: 所得税前净现金流量现值 | C19: ==SUM(D19:O19) -> 1163.7334 | D19: ==D17/POWER(1.042,1) -> -3330.8733 | E19: ==E17/POWER(1.042,2) -> 384.30147 | F19: ==F17/POWER(1.042,3) -> 369.77958 | G19: ==G17/POWER(1.042,4) -> 355.80714 | H19: ==H17/POWER(1.042,5) -> 342.3633 | I19: ==I17/POWER(1.042,6) -> 327.70268 | J19: ==J17/POWER(1.042,7) -> 313.94975 | K19: ==K17/POWER(1.042,8) -> 300.77571 | L19: ==L17/POWER(1.042,9) -> 288.15612 | M19: ==M17/POWER(1.042,10) -> 276.06756 | N19: ==N17/POWER(1.042,11) -> 263.63653 | O19: ==O17/POWER(1.042,12) -> 1272.0668
A20: 6 | B20: 累计所得税前净现金流量现值 | D20: ==D19 -> -3330.8733 | E20: ==D20+E19 -> -2946.5718 | F20: ==E20+F19 -> -2576.7922 | G20: ==F20+G19 -> -2220.9851 | H20: ==G20+H19 -> -1878.6218 | I20: ==H20+I19 -> -1550.9191 | J20: ==I20+J19 -> -1236.9693 | K20: ==J20+K19 -> -936.19363 | L20: ==K20+L19 -> -648.03751 | ... O20: ==N20+O19 -> 1163.7334
A21: 7 | B21: 调整所得税 | C21: ==SUM(D21:O21) -> 431.91671 | E21: ==利润及利润分配表!E13 -> 22.928031 | F21: ==利润及利润分配表!F13 -> 25.973874 | G21: ==利润及利润分配表!G13 -> 29.083642 | H21: ==利润及利润分配表!H13 -> 32.383332 | I21: ==利润及利润分配表!I13 -> 35.383829 | J21: ==利润及利润分配表!J13 -> 38.604379 | K21: ==利润及利润分配表!K13 -> 42.014836 | L21: ==利润及利润分配表!L13 -> 45.615196 | ... O21: ==利润及利润分配表!O13 -> 57.410091
A22: 8 | B22: 所得税后净现金流量（3-5） | C22: ==SUM(D22:O22) -> 2361.6449 | D22: ==D17-D21 -> -3470.7699 | E22: ==E17-E21 -> 394.33267 | F22: ==F17-F21 -> 392.3822 | G22: ==G17-G21 -> 390.37151 | H22: ==H17-H21 -> 388.17458 | I22: ==I17-I21 -> 384.07207 | J22: ==J17-J21 -> 380.12572 | K22: ==K17-K21 -> 375.99309 | ... O22: ==O17-O21 -> 2026.7091
A23: 9 | B23: 累计所得税后净现金流量 | D23: ==D22 -> -3470.7699 | E23: ==D23+E22 -> -3076.4373 | F23: ==E23+F22 -> -2684.0551 | G23: ==F23+G22 -> -2293.6836 | H23: ==G23+H22 -> -1905.509 | I23: ==H23+I22 -> -1521.4369 | J23: ==I23+J22 -> -1141.3112 | K23: ==J23+K22 -> -765.31811 | L23: ==K23+L22 -> -393.64394 | ... O23: ==N23+O22 -> 2361.6449
A24: 10 | B24: 所得税后净现金流量现值 | C24: ==SUM(D24:O24) -> 847.70772 | D24: ==D22/POWER(1.042,1) -> -3330.8733 | E24: ==E22/POWER(1.042,2) -> 363.18452 | F24: ==F22/POWER(1.042,3) -> 346.8216 | G24: ==G22/POWER(1.042,4) -> 331.13664 | H24: ==H22/POWER(1.042,5) -> 316.00103 | I24: ==I22/POWER(1.042,6) -> 300.05883 | J24: ==J22/POWER(1.042,7) -> 285.00549 | K24: ==K22/POWER(1.0425,8) -> 269.50781 | L24: ==L22/POWER(1.042,9) -> 256.65688 | M24: ==M22/POWER(1.042,10) -> 243.32613 | N24: ==N22/POWER(1.042,11) -> 229.85615 | O24: ==O22/POWER(1.042,12) -> 1237.0259
A25: 11 | B25: 累计所得税后净现金流量现值 | D25: ==D24 -> -3330.8733 | E25: ==D25+E24 -> -2967.6887 | F25: ==E25+F24 -> -2620.8671 | G25: ==F25+G24 -> -2289.7305 | H25: ==G25+H24 -> -1973.7295 | I25: ==H25+I24 -> -1673.6706 | J25: ==I25+J24 -> -1388.6652 | K25: ==J25+K24 -> -1119.1574 | L25: ==K25+L24 -> -862.50048 | ... O25: ==N25+O24 -> 847.70772
B26: 计算指标：
B27: 项目投资财务内部收益率（%）（所得税前） | F27: ==IRR(D17:O17) -> 0.091054058 | H27: 项目投资财务内部收益率（%）（所得税后） | L27: ==IRR(D22:O22,4.2%) -> 0.078402138
B28: 项目投资财务净现值（所得税前）（ic=4.2%） | F28: ==O20 -> 1163.7334 | H28: 项目投资财务净现值（所得税后）（ic=4.2%） | L28: ==O25 -> 847.70772
B29: 项目投资回收期（年）（所得税前） | F29: ==12-1+ABS(N20)/O19 -> 11.085163 | H29: 项目投资回收期（年）（所得税后） | L29: ==12-1+ABS(N25/O24) -> 11.314721

Sheet 还本付息表
A1: 还本付息表
N2: 单位：万元
A3: 序号 | D3: 计算期
B4: 项目 | C4: 合计 | D4: 0.5建设期 | E4: 0.5 | F4: 2 | G4: 3 | H4: 4 | I4: 5 | J4: 6 | K4: 7 | L4: 8 | M4: 9 | N4: 10 | O4: 11 | P4: 12
A5: 1 | B5: 建设投资借款 | C5: ==SUM(D5:N5) -> 3200 | D5: ==3200 -> 3200
A6: 1.1 | B6: 期初借款余额 | C6: ==SUM(D6:P6) -> 23460 | E6: ==D10 -> 3200 | F6: ==E10 -> 3100 | G6: ==F10 -> 2880 | H6: ==G10 -> 2660 | I6: ==H10 -> 2430 | J6: ==I10 -> 2180 | K6: ==J10 -> 1910 | L6: ==K10 -> 1640 | ... P6: ==O10 -> 370
A7: 1.2 | B7: 当期还本付息 | C7: ==SUM(D7:P7) -> 4262.684 | D7: ==D8+D9 -> 40.32 | E7: ==E8+E9 -> 179.38 | F7: ==F8+F9 -> 370.696 | G7: ==G8+G9 -> 359.608 | H7: ==H8+H9 -> 358.268 | I7: ==I8+I9 -> 366.172 | J7: ==J8+J9 -> 373.068 | K7: ==K8+K9 -> 359.46 | ... P7: ==P8+P9 -> 379.324
B8: 其中：还本 | C8: ==SUM(D8:P8) -> 3200 | E8: 100 | F8: 220 | G8: 220 | H8: ==230 -> 230 | I8: ==250 -> 250 | J8: ==270 -> 270 | K8: ==J8 -> 270 | L8: ==300 -> 300 | M8: ==300 -> 300 | N8: ==330 -> 330 | O8: ==340 -> 340 | P8: ==370 -> 370
B9: 付息 | C9: ==SUM(D9:P9) -> 1062.684 | D9: ==D5*0.0504*0.25 -> 40.32 | E9: ==(E6+F6)/2*0.0504*0.5 -> 79.38 | F9: ==(F6+G6)/2*0.0504 -> 150.696 | G9: ==(G6+H6)/2*0.0504 -> 139.608 | H9: ==(H6+I6)/2*0.0504 -> 128.268 | I9: ==(I6+J6)/2*0.0504 -> 116.172 | J9: ==(J6+K6)/2*0.0504 -> 103.068 | K9: ==(K6+L6)/2*0.0504 -> 89.46 | L9: ==(L6+M6)/2*0.0504 -> 75.096 | M9: ==(M6+N6)/2*0.0504 -> 59.976 | ... O9: ==(O6+P6)/2*0.0504 -> 27.216 | P9: ==P6/2*0.0504 -> 9.324
A10: 1.3 | B10: 期末借款余额 | D10: ==D5 -> 3200 | E10: ==E6-E8 -> 3100 | F10: ==F6-F8 -> 2880 | G10: ==G6-G8 -> 2660 | H10: ==H6-H8 -> 2430 | I10: ==I6-I8 -> 2180 | J10: ==J6-J8 -> 1910 | K10: ==K6-K8 -> 1640 | L10: ==L6-L8 -> 1340 | ... P10: ==P6-P8 -> 0
A11: 4 | B11: 可用于还本付息的资金 | C11: ==SUM(D11:P11) -> 4804.3663 | E11: ==利润及利润分配表!D26 -> 210.33703 | F11: ==利润及利润分配表!E26 -> 417.2607 | G11: ==利润及利润分配表!F26 -> 418.35608 | H11: ==利润及利润分配表!G26 -> 419.45515 | I11: ==利润及利润分配表!H26 -> 420.55791 | J11: ==利润及利润分配表!I26 -> 419.4559 | K11: ==利润及利润分配表!J26 -> 418.7301 | L11: ==利润及利润分配表!K26 -> 418.00792 | ... P11: ==利润及利润分配表!O26 -> 413.81694
A12: 指标 | B12: 利息备付率 | C12: ==C11/C9 -> 4.5209736 | E12: ==E11/E9 -> 2.6497484 | F12: ==F11/F9 -> 2.7688904 | G12: ==G11/G9 -> 2.9966483 | H12: ==H11/H9 -> 3.2701465 | I12: ==I11/I9 -> 3.6201314 | J12: ==J11/J9 -> 4.0697005 | K12: ==K11/K9 -> 4.6806405 | L12: ==L11/L9 -> 5.5663141 | ... P12: ==P11/P9 -> 44.381912
B13: 偿债备付率 | C13: ==C11/C7 -> 1.1270754 | E13: ==E11/E7 -> 1.1725779 | F13: ==F11/F7 -> 1.1256143 | G13: ==G11/G7 -> 1.163367 | H13: ==H11/H7 -> 1.170786 | I13: ==I11/I7 -> 1.1485256 | J13: ==J11/J7 -> 1.1243417 | K13: ==K11/K7 -> 1.1648865 | L13: ==L11/L7 -> 1.1144025 | ... P13: ==P11/P7 -> 1.0909327

Sheet 项目财务现金流量表
A1: 项目财务现金流量表
A2: 序号 | B2: 项目 | C2: 建设期/运营期
C3: 1 | D3: 2 | E3: 3 | F3: 4 | G3: 5 | H3: 6 | I3: 7 | J3: 8 | K3: 9 | L3: 10
A4: 1 | B4: 经营活动净现金流量 | C4: ==C5-C9 -> 563.51987 | D4: ==D5-D9 -> 394.33267 | E4: ==E5-E9 -> 392.3822 | F4: ==F5-F9 -> 390.37151 | G4: ==G5-G9 -> 388.17458 | H4: ==H5-H9 -> 384.07207 | I4: ==I5-I9 -> 380.12572 | J4: ==J5-J9 -> 375.99309 | ... L4: ==L5-L9 -> 367.16894
A5: 1.1 | B5: 现金流入 | C5: ==SUM(C6:C8) -> 655.98581 | D5: ==SUM(D6:D8) -> 584.81369 | E5: ==SUM(E6:E8) -> 585.79177 | F5: ==SUM(F6:F8) -> 586.77478 | G5: ==SUM(G6:G8) -> 587.76271 | H5: ==SUM(H6:H8) -> 587.77273 | I5: ==SUM(I6:I8) -> 586.80481 | J5: ==SUM(J6:J8) -> 585.84174 | ... L5: ==SUM(L6:L8) -> 583.93
A6: 1.1.1 | B6: 营业收入 | C6: ==营业收入及税金表!D5 -> 291.92028 | D6: ==营业收入及税金表!E5 -> 584.81369 | E6: ==营业收入及税金表!F5 -> 585.79177 | F6: ==营业收入及税金表!G5 -> 586.77478 | G6: ==营业收入及税金表!H5 -> 587.76271 | H6: ==营业收入及税金表!I5 -> 587.77273 | I6: ==营业收入及税金表!J5 -> 586.80481 | J6: ==营业收入及税金表!K5 -> 585.84174 | ... L6: ==营业收入及税金表!M5 -> 583.93
A7: 1.1.2 | B7: 补贴收入 | C7: ==项目投资现金流量表!D7 -> 364.06552
A8: 1.1.3 | B8: 其他流入
A9: 1.2 | B9: 现金流出 | C9: ==SUM(C10:C13) -> 92.465942 | D9: ==SUM(D10:D13) -> 190.48101 | E9: ==SUM(E10:E13) -> 193.40956 | F9: ==SUM(F10:F13) -> 196.40328 | G9: ==SUM(G10:G13) -> 199.58814 | H9: ==SUM(H10:H13) -> 203.70067 | I9: ==SUM(I10:I13) -> 206.6791 | J9: ==SUM(J10:J13) -> 209.84865 | ... L9: ==SUM(L10:L13) -> 216.76106
A10: 1.2.1 | B10: 经营成本 | C10: ==总成本费用表!D11 -> 41.461245 | D10: ==总成本费用表!E11 -> 87.816152 | E10: ==总成本费用表!F11 -> 87.710346 | F10: ==总成本费用表!G11 -> 87.60507 | G10: ==总成本费用表!H11 -> 87.500319 | H10: ==总成本费用表!I11 -> 88.736093 | I10: ==总成本费用表!J11 -> 88.632387 | J10: ==总成本费用表!K11 -> 88.5292 | ... L10: ==总成本费用表!M11 -> 88.324372
A11: 1.2.2 | B11: 税金及附加 | C11: ==利润及利润分配表!D6+利润及利润分配表!D7 -> 40.122013 | D11: ==利润及利润分配表!E6+利润及利润分配表!E7 -> 79.73683 | E11: ==利润及利润分配表!F6+利润及利润分配表!F7 -> 79.725344 | F11: ==利润及利润分配表!G6+利润及利润分配表!G7 -> 79.714564 | G11: ==利润及利润分配表!H6+利润及利润分配表!H7 -> 79.704487 | H11: ==利润及利润分配表!I6+利润及利润分配表!I7 -> 79.580744 | I11: ==利润及利润分配表!J6+利润及利润分配表!J7 -> 79.442332 | J11: ==利润及利润分配表!K6+利润及利润分配表!K7 -> 79.304612 | ... L11: ==利润及利润分配表!M6+利润及利润分配表!M7 -> 79.031234
A12: 1.2.3 | B12: 所得税 | C12: ==利润及利润分配表!D13 -> 10.882684 | D12: ==利润及利润分配表!E13 -> 22.928031 | E12: ==利润及利润分配表!F13 -> 25.973874 | F12: ==利润及利润分配表!G13 -> 29.083642 | G12: ==利润及利润分配表!H13 -> 32.383332 | H12: ==利润及利润分配表!I13 -> 35.383829 | I12: ==利润及利润分配表!J13 -> 38.604379 | J12: ==利润及利润分配表!K13 -> 42.014836 | ... L12: ==利润及利润分配表!M13 -> 49.405454
A13: 1.2.4 | B13: 其他流出
A14: 2 | B14: 投资活动净现金流量 | C14: ==C15-C16 -> -4085.4925
A15: 2.1 | B15: 现金流入 | C15: 0
A16: 2.2 | B16: 现金流出 | C16: ==SUM(C17:C20) -> 4085.4925
A17: 2.2.1 | B17: 建设投资 | C17: ==总投资!G54 -> 4085.4925
A18: 2.2.2 | B18: 维持运营投资
A19: 2.2.3 | B19: 流动资金
A20: 2.2.4 | B20: 其他流出
A21: 3 | B21: 筹资活动净现金流量 | C21: ==C22-C26 -> 12508.04 | D21: ==D22-D26 -> -299.38 | E21: ==E22-E26 -> -370.696 | F21: ==F22-F26 -> -369.608 | G21: ==G22-G26 -> -378.268 | H21: ==H22-H26 -> -386.172 | I21: ==I22-I26 -> -373.068 | J21: ==J22-J26 -> -389.46 | ... L21: ==L22-L26 -> -389.976
A22: 3.1 | B22: 现金流入 | C22: ==SUM(C23:C25) -> 12648.36
A23: 3.1.1 | B23: 项目资本金投入 | C23: 2648.36
A24: 3.1.2 | B24: 建设投资借款 | C24: 10000
A25: 3.1.3 | B25: 其他流入
A26: 3.2 | B26: 现金流出 | C26: ==SUM(C27:C30) -> 140.32 | D26: ==SUM(D27:D30) -> 299.38 | E26: ==SUM(E27:E30) -> 370.696 | F26: ==SUM(F27:F30) -> 369.608 | G26: ==SUM(G27:G30) -> 378.268 | H26: ==SUM(H27:H30) -> 386.172 | I26: ==SUM(I27:I30) -> 373.068 | J26: ==SUM(J27:J30) -> 389.46 | ... L26: ==SUM(L27:L30) -> 389.976
A27: 3.2.1 | B27: 利息支出 | C27: ==还本付息表!D9 -> 40.32 | D27: ==还本付息表!E9 -> 79.38 | E27: ==还本付息表!F9 -> 150.696 | F27: ==还本付息表!G9 -> 139.608 | G27: ==还本付息表!H9 -> 128.268 | H27: ==还本付息表!I9 -> 116.172 | I27: ==还本付息表!J9 -> 103.068 | J27: ==还本付息表!K9 -> 89.46 | ... L27: ==还本付息表!M9 -> 59.976
A28: 3.2.2 | B28: 偿还债务本金 | C28: ==还本付息表!E8 -> 100 | D28: ==还本付息表!F8 -> 220 | E28: ==还本付息表!G8 -> 220 | F28: ==还本付息表!H8 -> 230 | G28: ==还本付息表!I8 -> 250 | H28: ==还本付息表!J8 -> 270 | I28: ==还本付息表!K8 -> 270 | J28: ==还本付息表!L8 -> 300 | ... L28: ==还本付息表!N8 -> 330
A29: 3.2.3 | B29: 应付利润(股利分配)
A30: 3.2.4 | B30: 其他流出
A31: 四 | B31: 净现金流量 | C31: ==C21+C14+C4 -> 8986.0674 | D31: ==D21+D14+D4 -> 94.952674 | E31: ==E21+E14+E4 -> 21.686202 | F31: ==F21+F14+F4 -> 20.763507 | G31: ==G21+G14+G4 -> 9.9065755 | H31: ==H21+H14+H4 -> -2.0999335 | I31: ==I21+I14+I4 -> 7.0577165 | J31: ==J21+J14+J4 -> -13.466912 | ... L31: ==L21+L14+L4 -> -22.807057
A32: 五 | B32: 累计盈余资金 | C32: ==C31 -> 8986.0674 | D32: ==D31+C32 -> 9081.0201 | E32: ==E31+D32 -> 9102.7063 | F32: ==F31+E32 -> 9123.4698 | G32: ==G31+F32 -> 9133.3763 | H32: ==H31+G32 -> 9131.2764 | I32: ==I31+H32 -> 9138.3341 | J32: ==J31+I32 -> 9124.8672 | K32: ==K31+J32 -> 9121.4454 | L32: ==L31+K32 -> 9098.6383
